BEGIN:VCALENDAR
VERSION:2.0
PRODID:-//LLRS - ECPv6.15.20//NONSGML v1.0//EN
CALSCALE:GREGORIAN
METHOD:PUBLISH
X-WR-CALNAME:LLRS
X-ORIGINAL-URL:https://www.llrs.org
X-WR-CALDESC:Events for LLRS
REFRESH-INTERVAL;VALUE=DURATION:PT1H
X-Robots-Tag:noindex
X-PUBLISHED-TTL:PT1H
BEGIN:VTIMEZONE
TZID:America/New_York
BEGIN:DAYLIGHT
TZOFFSETFROM:-0500
TZOFFSETTO:-0400
TZNAME:EDT
DTSTART:20250309T070000
END:DAYLIGHT
BEGIN:STANDARD
TZOFFSETFROM:-0400
TZOFFSETTO:-0500
TZNAME:EST
DTSTART:20251102T060000
END:STANDARD
BEGIN:DAYLIGHT
TZOFFSETFROM:-0500
TZOFFSETTO:-0400
TZNAME:EDT
DTSTART:20260308T070000
END:DAYLIGHT
BEGIN:STANDARD
TZOFFSETFROM:-0400
TZOFFSETTO:-0500
TZNAME:EST
DTSTART:20261101T060000
END:STANDARD
BEGIN:DAYLIGHT
TZOFFSETFROM:-0500
TZOFFSETTO:-0400
TZNAME:EDT
DTSTART:20270314T070000
END:DAYLIGHT
BEGIN:STANDARD
TZOFFSETFROM:-0400
TZOFFSETTO:-0500
TZNAME:EST
DTSTART:20271107T060000
END:STANDARD
END:VTIMEZONE
BEGIN:VEVENT
DTSTART;TZID=America/New_York:20260130T080000
DTEND;TZID=America/New_York:20260130T163000
DTSTAMP:20260421T081245
CREATED:20250731T144606Z
LAST-MODIFIED:20250923T184954Z
UID:16688-1769760000-1769790600@www.llrs.org
SUMMARY:Hospital for Special Surgery Limb Deformity: Bone Defects
DESCRIPTION:2026_Limb_Recon_flyer_final
URL:https://www.llrs.org/event/hospital-for-special-surgery-limb-deformity-bone-defects/
LOCATION:Hospital for Special Surgery\, 535 E 70th St\, New York\, NY\, United States
ORGANIZER;CN="Taylor Reif%2C MD":MAILTO:reift@hss.edu
END:VEVENT
END:VCALENDAR